BEGIN:VCALENDAR
VERSION:2.0
PRODID:Events Booking
BEGIN:VEVENT
UID:69e5e8619db62
SUMMARY:De Kempen
DESCRIPTION:
 
 
 |    
 
 
 
 Typische Kempenrit via Hilvarenbee
 k\, Esbeek\, Hooge Mierde\, Reusel\, Netersel\, Diessen\, Biest-Houtakker 
 en terug naar Goirle.
 
 
 
 
DTSTART:20170726T070000Z
DTSTAMP:20260420T084833Z
ORGANIZER;CN=Website WTC De Hellen:MAILTO:webmaster@wtcdehellen.nl
END:VEVENT
END:VCALENDAR