BEGIN:VCALENDAR
VERSION:2.0
PRODID:Events Booking
BEGIN:VEVENT
UID:69e64478b2fdd
SUMMARY:Barbecue
DESCRIPTION:De jaarlijkse barbeque vindt weer plaats op de parkeerplaats va
 n Civil Support\, Bergstraat 35 in Goirle. Je bent van harte welkom met pa
 rtner (wel even aangegeven bij de aanmelding). De kosten zijn € 7\,50 pe
 r persoon\, te voldoen bij iemand van de organisatie op de dag zelf.
LOCATION:Bergstraat 35\, 5051 HA Goirle\, Nederland
DTSTART:20220911T140000Z
DTEND:20220911T200000Z
DTSTAMP:20220723T130014Z
ORGANIZER;CN=Website WTC De Hellen:MAILTO:webmaster@wtcdehellen.nl
GEO:51.516841;5.063562
X-APPLE-STRUCTURED-LOCATION;VALUE=URI;X-ADDRESS=Bergstraat 35\, 5051 HA Goi
 rle\, Nederland;X-APPLE-RADIUS=72;X-TITLE=Kantoor Civil Support:51.516841;
 5.063562
END:VEVENT
END:VCALENDAR