BEGIN:VCALENDAR
VERSION:2.0
PRODID:Events Booking
BEGIN:VEVENT
UID:69e7edd48f00b
SUMMARY:Babyloniënbroek 100km 
DESCRIPTION:{GPSCONTENT [\"id\": 240\, \"elevation\": 1\, \"speed\": 1\, \"
 nomap\": 1\, \"description\": 1]}
DTSTART:20190707T063000Z
DTSTAMP:20260421T213620Z
ORGANIZER;CN=Website WTC De Hellen:MAILTO:webmaster@wtcdehellen.nl
END:VEVENT
END:VCALENDAR