BEGIN:VCALENDAR
VERSION:2.0
PRODID:Events Booking
BEGIN:VEVENT
UID:69e61fbc2eee2
SUMMARY:ATB-woensdag
DESCRIPTION:
 
 
 &nbsp\;&nbsp\;&nbsp\;A B C&nbsp\;
 
 
 
 Een ATB-r
 oute die in&nbsp\;onderling overleg wordt bepaald!
 
 
 
 
DTSTART:20171004T070000Z
DTSTAMP:20260420T124444Z
ORGANIZER;CN=Website WTC De Hellen:MAILTO:webmaster@wtcdehellen.nl
END:VEVENT
END:VCALENDAR