BEGIN:VCALENDAR
VERSION:2.0
PRODID:Events Booking
BEGIN:VEVENT
UID:69e61fbb23aee
SUMMARY:ATB-woensdag
DESCRIPTION:
 
 
 
 
 
 
 &nbsp\;&nbsp\;A B C&nbsp\;
 
 
 
 Een 
 ATB-route die in&nbsp\;onderling overleg wordt bepaald
 
 
 
 
 &nbsp
 \;
 
 
 
 &nbsp\;
 
 
 
 
DTSTART:20171011T070000Z
DTSTAMP:20260420T124443Z
ORGANIZER;CN=Website WTC De Hellen:MAILTO:webmaster@wtcdehellen.nl
END:VEVENT
END:VCALENDAR