BEGIN:VCALENDAR
VERSION:2.0
PRODID:Events Booking
BEGIN:VEVENT
UID:69e631a027917
SUMMARY:ATB-woensdag rit
DESCRIPTION:
DTSTART:20181205T080000Z
DTSTAMP:20260420T140104Z
ORGANIZER;CN=Website WTC De Hellen:MAILTO:webmaster@wtcdehellen.nl
END:VEVENT
END:VCALENDAR