BEGIN:VCALENDAR
VERSION:2.0
PRODID:Events Booking
BEGIN:VEVENT
UID:69e64649ded7f
SUMMARY:ATB-woensdag rit
DESCRIPTION:
DTSTART:20181128T080000Z
DTSTAMP:20260420T152913Z
ORGANIZER;CN=Website WTC De Hellen:MAILTO:webmaster@wtcdehellen.nl
END:VEVENT
END:VCALENDAR