BEGIN:VCALENDAR
VERSION:2.0
PRODID:Events Booking
BEGIN:VEVENT
UID:69e65ac454b05
SUMMARY:ATB-woensdag rit
DESCRIPTION:
DTSTART:20181226T080000Z
DTSTAMP:20260420T165636Z
ORGANIZER;CN=Website WTC De Hellen:MAILTO:webmaster@wtcdehellen.nl
END:VEVENT
END:VCALENDAR