BEGIN:VCALENDAR
VERSION:2.0
PRODID:Events Booking
BEGIN:VEVENT
UID:69e6460863a8a
SUMMARY:ATB-woensdag rit
DESCRIPTION:
DTSTART:20190123T080000Z
DTSTAMP:20260420T152808Z
ORGANIZER;CN=Website WTC De Hellen:MAILTO:webmaster@wtcdehellen.nl
END:VEVENT
END:VCALENDAR