BEGIN:VCALENDAR
VERSION:2.0
PRODID:Events Booking
BEGIN:VEVENT
UID:69e6460d5ca89
SUMMARY:ATB-woensdag rit
DESCRIPTION:
DTSTART:20190116T080000Z
DTSTAMP:20260420T152813Z
ORGANIZER;CN=Website WTC De Hellen:MAILTO:webmaster@wtcdehellen.nl
END:VEVENT
END:VCALENDAR