BEGIN:VCALENDAR
VERSION:2.0
PRODID:Events Booking
BEGIN:VEVENT
UID:69e65944d1108
SUMMARY:ATB-woensdag
DESCRIPTION:
 
 
 &nbsp\;&nbsp\;A B C&nbsp\;
 
 
 
 Een ATB-route di
 e in&nbsp\;onderling overleg wordt bepaald!
 
 
 
 
DTSTART:20171108T080000Z
DTSTAMP:20260420T165012Z
ORGANIZER;CN=Website WTC De Hellen:MAILTO:webmaster@wtcdehellen.nl
END:VEVENT
END:VCALENDAR