BEGIN:VCALENDAR
VERSION:2.0
PRODID:Events Booking
BEGIN:VEVENT
UID:69e630b65103d
SUMMARY:ATB VTT 2023 8-1-2023
DESCRIPTION:
LOCATION:Spoorbaan 45\, 5051 ET Goirle\, Nederland
DTSTART:20230108T080000Z
DTSTAMP:20220821T070632Z
ORGANIZER;CN=Website WTC De Hellen:MAILTO:webmaster@wtcdehellen.nl
GEO:51.518412;5.050095
X-APPLE-STRUCTURED-LOCATION;VALUE=URI;X-ADDRESS=Spoorbaan 45\, 5051 ET Goir
 le\, Nederland;X-APPLE-RADIUS=72;X-TITLE=Clubhuis VOAB:51.518412;5.050095
END:VEVENT
END:VCALENDAR