BEGIN:VCALENDAR
VERSION:2.0
PRODID:Events Booking
BEGIN:VEVENT
UID:69e819d5ef796
SUMMARY:ATB Chaam Zuid 50km 6-1-2023
DESCRIPTION:{GPSCONTENT [\"id\": 228\, \"elevation\": 1\, \"speed\": 1\, \"
 nomap\": 1\, \"description\": 1]}
DTSTART:20240106T080000Z
DTSTAMP:20230911T094227Z
ORGANIZER;CN=Website WTC De Hellen:MAILTO:webmaster@wtcdehellen.nl
END:VEVENT
END:VCALENDAR