BEGIN:VCALENDAR
VERSION:2.0
PRODID:Events Booking
BEGIN:VEVENT
UID:69e62037bd103
SUMMARY:ATB Tilburg 50km Roks koffie rit
DESCRIPTION:{GPSCONTENT [\"id\": 264\, \"elevation\": 1\, \"speed\": 1\, \"
 nomap\": 1\, \"description\": 1]}
DTSTART:20260207T080000Z
DTSTAMP:20250915T045533Z
ORGANIZER;CN=Website WTC De Hellen:MAILTO:webmaster@wtcdehellen.nl
END:VEVENT
END:VCALENDAR