BEGIN:VCALENDAR
VERSION:2.0
PRODID:Events Booking
BEGIN:VEVENT
UID:69e66abec53bb
SUMMARY:ATB Sluitingsrit In den Bockenreyder 46KM
DESCRIPTION:{GPSCONTENT [\"id\": 221\, \"elevation\": 1\, \"speed\": 1\, \"
 nomap\": 1\, \"description\": 1]}
DTSTART:20220226T080000Z
DTSTAMP:20260420T180446Z
ORGANIZER;CN=Website WTC De Hellen:MAILTO:webmaster@wtcdehellen.nl
END:VEVENT
END:VCALENDAR