BEGIN:VCALENDAR
VERSION:2.0
PRODID:Events Booking
BEGIN:VEVENT
UID:69eb2ac786e1a
SUMMARY:ATB Sluitingsrit in den Bockenreyder 44km
DESCRIPTION:{GPSCONTENT [\"id\": 409\, \"elevation\": 1\, \"speed\": 1\, \"
 nomap\": 1\, \"description\": 1]}
DTSTART:20240224T080000Z
DTSTAMP:20230926T030252Z
ORGANIZER;CN=Website WTC De Hellen:MAILTO:webmaster@wtcdehellen.nl
END:VEVENT
END:VCALENDAR