BEGIN:VCALENDAR
VERSION:2.0
PRODID:Events Booking
BEGIN:VEVENT
UID:69e6463adb97c
SUMMARY:ATB rit woensdag (Gratis Koffie)
DESCRIPTION:
DTSTART:20251105T080000Z
DTSTAMP:20250904T095833Z
ORGANIZER;CN=Website WTC De Hellen:MAILTO:webmaster@wtcdehellen.nl
END:VEVENT
END:VCALENDAR