BEGIN:VCALENDAR
VERSION:2.0
PRODID:Events Booking
BEGIN:VEVENT
UID:69e65b1a59931
SUMMARY:ATB rit woensdag
DESCRIPTION:
DTSTART:20241030T080000Z
DTSTAMP:20240913T052522Z
ORGANIZER;CN=Website WTC De Hellen:MAILTO:webmaster@wtcdehellen.nl
END:VEVENT
END:VCALENDAR