BEGIN:VCALENDAR
VERSION:2.0
PRODID:Events Booking
BEGIN:VEVENT
UID:69e6316725c29
SUMMARY:ATB rit woensdag
DESCRIPTION:
DTSTART:20260121T083000Z
DTSTAMP:20250904T095833Z
ORGANIZER;CN=Website WTC De Hellen:MAILTO:webmaster@wtcdehellen.nl
END:VEVENT
END:VCALENDAR