BEGIN:VCALENDAR
VERSION:2.0
PRODID:Events Booking
BEGIN:VEVENT
UID:69e6466302d03
SUMMARY:ATB- rit woensdag groep
DESCRIPTION:
DTSTART:20191225T080000Z
DTSTAMP:20260420T152939Z
ORGANIZER;CN=Website WTC De Hellen:MAILTO:webmaster@wtcdehellen.nl
END:VEVENT
END:VCALENDAR