BEGIN:VCALENDAR
VERSION:2.0
PRODID:Events Booking
BEGIN:VEVENT
UID:69e657ec25ada
SUMMARY:ATB Rebock 48km 4-2-2023
DESCRIPTION:{GPSCONTENT [\"id\": 287\, \"elevation\": 1\, \"speed\": 1\, \"
 nomap\": 1\, \"description\": 1]}
DTSTART:20230204T080000Z
DTSTAMP:20220821T071236Z
ORGANIZER;CN=Website WTC De Hellen:MAILTO:webmaster@wtcdehellen.nl
END:VEVENT
END:VCALENDAR