BEGIN:VCALENDAR
VERSION:2.0
PRODID:Events Booking
BEGIN:VEVENT
UID:69e61f9839e97
SUMMARY:ATB openingsrit
DESCRIPTION:
 
 
 &nbsp\;&nbsp\; A B C&nbsp\; &nbsp\;
 
 
 
 Traditi
 onele openingsrit naar 'In den Bockenreyder\" in Esbeek\, en na de koffie 
 met gebak over net andere wegen weer&nbsp\;terug naar Goirle.
 Om&nbsp\;d
 e gehele rit&nbsp\;te (kunnen) navigeren dien je twee tracks te downloaden
  van onze site: de rit heen én de rit terug!
 
 
 
 
DTSTART:20171007T070000Z
DTSTAMP:20260420T124408Z
ORGANIZER;CN=Website WTC De Hellen:MAILTO:webmaster@wtcdehellen.nl
END:VEVENT
END:VCALENDAR