BEGIN:VCALENDAR
VERSION:2.0
PRODID:Events Booking
BEGIN:VEVENT
UID:69e65a54c6348
SUMMARY:ATB Hooge Mierde 57km 18-01-2025
DESCRIPTION:{GPSCONTENT [\"id\": 223\, \"elevation\": 1\, \"speed\": 1\, \"
 nomap\": 1\, \"description\": 1]}
DTSTART:20250118T080000Z
DTSTAMP:20240913T055841Z
ORGANIZER;CN=Website WTC De Hellen:MAILTO:webmaster@wtcdehellen.nl
END:VEVENT
END:VCALENDAR