BEGIN:VCALENDAR
VERSION:2.0
PRODID:Events Booking
BEGIN:VEVENT
UID:69e65a141592f
SUMMARY:ATB Hooge Mierde 56km
DESCRIPTION:{GPSCONTENT [\"id\": 223\, \"elevation\": 1\, \"speed\": 1\, \"
 nomap\": 1\, \"description\": 1]}
DTSTART:20260117T080000Z
DTSTAMP:20250915T044522Z
ORGANIZER;CN=Website WTC De Hellen:MAILTO:webmaster@wtcdehellen.nl
END:VEVENT
END:VCALENDAR