BEGIN:VCALENDAR
VERSION:2.0
PRODID:Events Booking
BEGIN:VEVENT
UID:69eb2ab4d5270
SUMMARY:ATB Ravels 63km 11-1-2025
DESCRIPTION:{GPSCONTENT [\"id\": 447\, \"elevation\": 1\, \"speed\": 1\, \"
 nomap\": 1\, \"description\": 1]}
DTSTART:20250111T080000Z
DTSTAMP:20240913T055416Z
ORGANIZER;CN=Website WTC De Hellen:MAILTO:webmaster@wtcdehellen.nl
END:VEVENT
END:VCALENDAR