BEGIN:VCALENDAR
VERSION:2.0
PRODID:Events Booking
BEGIN:VEVENT
UID:69e6594ac4e91
SUMMARY:ATB Grensrit 51km 22-11-2025
DESCRIPTION:{GPSCONTENT [\"id\": 356\, \"elevation\": 1\, \"speed\": 1\, \"
 nomap\": 1\, \"description\": 1]}
DTSTART:20251122T080000Z
DTSTAMP:20250904T114445Z
ORGANIZER;CN=Website WTC De Hellen:MAILTO:webmaster@wtcdehellen.nl
END:VEVENT
END:VCALENDAR