BEGIN:VCALENDAR
VERSION:2.0
PRODID:Events Booking
BEGIN:VEVENT
UID:69e65894c881a
SUMMARY:ATB Dorst 54km 2026-01-31
DESCRIPTION:{GPSCONTENT [\"id\": 217\, \"elevation\": 1\, \"speed\": 1\, \"
 nomap\": 1\, \"description\": 1]}
DTSTART:20260131T080000Z
DTSTAMP:20250915T045418Z
ORGANIZER;CN=Website WTC De Hellen:MAILTO:webmaster@wtcdehellen.nl
END:VEVENT
END:VCALENDAR