BEGIN:VCALENDAR
VERSION:2.0
PRODID:Events Booking
BEGIN:VEVENT
UID:69e6579fc8e47
SUMMARY:ATB Dorst 46km 27-1-2024
DESCRIPTION:{GPSCONTENT [\"id\": 217\, \"elevation\": 1\, \"speed\": 1\, \"
 nomap\": 1\, \"description\": 1]}
DTSTART:20240127T080000Z
DTSTAMP:20230926T025547Z
ORGANIZER;CN=Website WTC De Hellen:MAILTO:webmaster@wtcdehellen.nl
END:VEVENT
END:VCALENDAR