BEGIN:VCALENDAR
VERSION:2.0
PRODID:Events Booking
BEGIN:VEVENT
UID:69e64562e595f
SUMMARY:ATB Beeldenrit 54km 27-12-2025
DESCRIPTION:{GPSCONTENT [\"id\": 320\, \"elevation\": 1\, \"speed\": 1\, \"
 nomap\": 1\, \"description\": 1]}
DTSTART:20251227T080000Z
DTSTAMP:20250915T042940Z
ORGANIZER;CN=Website WTC De Hellen:MAILTO:webmaster@wtcdehellen.nl
END:VEVENT
END:VCALENDAR