BEGIN:VCALENDAR
VERSION:2.0
PRODID:Events Booking
BEGIN:VEVENT
UID:69e6590cd3fd4
SUMMARY:ATB Alphen 53km 20-12-2025
DESCRIPTION:{GPSCONTENT [\"id\": 451\, \"elevation\": 1\, \"speed\": 1\, \"
 nomap\": 1\, \"description\": 1]}
DTSTART:20251220T080000Z
DTSTAMP:20250904T120016Z
ORGANIZER;CN=Website WTC De Hellen:MAILTO:webmaster@wtcdehellen.nl
END:VEVENT
END:VCALENDAR