BEGIN:VCALENDAR
VERSION:2.0
PRODID:Events Booking
BEGIN:VEVENT
UID:69e61ff913ae7
SUMMARY:ALV t.b.v. wijziging statuten en HHR
DESCRIPTION:Omdat voor de instemming van de ALV op 26 april j.l. het quorum
  (2/3 van alle leden) niet behaald werd\, wordt er een 2e korte bijeenkoms
 t georganiseerd. Bij de stemronde hoeft het aantal aanwezig leden niet aan
  een minimum te voldoen. De statuten kunnen worden aangenomen als 2/3 van 
 de aanwezige leden voor de wijziging van de statuten stemt. Daarna zal het
  Huishoudelijk Reglement ter stemming worden ingebracht. Hiervoor is een m
 eerderheid van de stemmen (de helft + 1 ) voldoende.
 Omdat we zicht will
 en hebben op het aantal aanwezig leden is inschrijven verplicht.
LOCATION:van Malsenstraat 11 Goirle
DTSTART:20220615T170000Z
DTEND:20220615T173000Z
DTSTAMP:20220519T173848Z
ORGANIZER;CN=Website WTC De Hellen:MAILTO:webmaster@wtcdehellen.nl
GEO:51.525453;5.060654
X-APPLE-STRUCTURED-LOCATION;VALUE=URI;X-ADDRESS=van Malsenstraat 11 Goirle;
 X-APPLE-RADIUS=72;X-TITLE=Theo Gommer:51.525453;5.060654
END:VEVENT
END:VCALENDAR