BEGIN:VCALENDAR
VERSION:2.0
PRODID:Events Booking
BEGIN:VEVENT
UID:69e61ff7e88fb
SUMMARY:ALV 2020 (via Teams)
DESCRIPTION:Op 17 februari heeft het bestuur een nieuwsbericht verzonden. D
 aarin is aangegeven dat we volgens ons huishoudelijk reglement de ALV uite
 rlijk in juni gehouden moeten hebben.
 LET OP: De ALV 2020 zal virtueel v
 ia Teams plaatsvinden We realiseren ons dat de ALV\, naast een statutaire 
 verplichting\, ook een belangrijke sociale component in zich draagt. We ho
 pen dan ook dat de ALV 2021 in 2022 weer in de vertrouwde vorm zal kunnen 
 plaatsvinden. Voor de ALV 2020 zijn wel helaas genoodzaakt om uit te wijke
 n naar Teams.
 Er is besloten om in deze ALV geen grote besluiten\, zoals
  aanpassingen van de statuten of contributie\, ter besluitvorming voor te 
 leggen.
 Wat wordt er besproken? De vergaderstukken zijn te vinden op de 
 website via:
 WTC De Hellen - Stukken ALV
 Mocht je een rondvraag hebben
 \, dan kan deze uiterlijk 6 juni worden aangeleverd via secretaris@wtcdehe
 llen.nl
 &nbsp\;
 Hoe werkt dit dan via Teams? Als je de ALV wilt bijwon
 en\, dan kun je via de volgende link hieraan deelnemen:
 Klik hier om dee
 l te nemen aan de vergadering
 &nbsp\;
 Maar ik heb geen Teams-account. 
 Wat moet ik dan doen? Je hebt geen Teams-account nodig. Hoe dit werkt kun 
 je lezen in onderstaande link
 Deelnemen aan een vergadering zonder een T
 eams-account
DTSTART:20210609T173000Z
DTEND:20210609T193000Z
DTSTAMP:20260420T124543Z
ORGANIZER;CN=Website WTC De Hellen:MAILTO:webmaster@wtcdehellen.nl
END:VEVENT
END:VCALENDAR