BEGIN:VCALENDAR
VERSION:2.0
PRODID:Events Booking
BEGIN:VEVENT
UID:69e65a033f655
SUMMARY:Algemene Leden Vergadering 2024
DESCRIPTION:
LOCATION:Tilburgseweg 106 Goirle
DTSTART:20240312T183000Z
DTEND:20240312T210000Z
DTSTAMP:20220306T152820Z
ORGANIZER;CN=Website WTC De Hellen:MAILTO:webmaster@wtcdehellen.nl
GEO:51.523903;5.065715
X-APPLE-STRUCTURED-LOCATION;VALUE=URI;X-ADDRESS=Tilburgseweg 106 Goirle;X-A
 PPLE-RADIUS=72;X-TITLE=Broeder Liplap:51.523903;5.065715
END:VEVENT
END:VCALENDAR