BEGIN:VCALENDAR
VERSION:2.0
PRODID:Events Booking
BEGIN:VEVENT
UID:69e61feac403a
SUMMARY:Algemene Leden Vergadering 2022
DESCRIPTION:
LOCATION:Tilburgseweg 106 Goirle
DTSTART:20220426T173000Z
DTEND:20220426T200000Z
DTSTAMP:20220306T152820Z
ORGANIZER;CN=Website WTC De Hellen:MAILTO:webmaster@wtcdehellen.nl
GEO:51.523903;5.065715
X-APPLE-STRUCTURED-LOCATION;VALUE=URI;X-ADDRESS=Tilburgseweg 106 Goirle;X-A
 PPLE-RADIUS=72;X-TITLE=Broeder Liplap:51.523903;5.065715
END:VEVENT
END:VCALENDAR